BEGIN:VCALENDAR
VERSION:2.0
PRODID:-//Levinson &amp; Associates - ECPv6.15.20//NONSGML v1.0//EN
CALSCALE:GREGORIAN
METHOD:PUBLISH
X-ORIGINAL-URL:https://www.carylevinson.com
X-WR-CALDESC:Events for Levinson &amp; Associates
REFRESH-INTERVAL;VALUE=DURATION:PT1H
X-Robots-Tag:noindex
X-PUBLISHED-TTL:PT1H
BEGIN:VTIMEZONE
TZID:America/New_York
BEGIN:DAYLIGHT
TZOFFSETFROM:-0500
TZOFFSETTO:-0400
TZNAME:EDT
DTSTART:20250309T070000
END:DAYLIGHT
BEGIN:STANDARD
TZOFFSETFROM:-0400
TZOFFSETTO:-0500
TZNAME:EST
DTSTART:20251102T060000
END:STANDARD
BEGIN:DAYLIGHT
TZOFFSETFROM:-0500
TZOFFSETTO:-0400
TZNAME:EDT
DTSTART:20260308T070000
END:DAYLIGHT
BEGIN:STANDARD
TZOFFSETFROM:-0400
TZOFFSETTO:-0500
TZNAME:EST
DTSTART:20261101T060000
END:STANDARD
BEGIN:DAYLIGHT
TZOFFSETFROM:-0500
TZOFFSETTO:-0400
TZNAME:EDT
DTSTART:20270314T070000
END:DAYLIGHT
BEGIN:STANDARD
TZOFFSETFROM:-0400
TZOFFSETTO:-0500
TZNAME:EST
DTSTART:20271107T060000
END:STANDARD
END:VTIMEZONE
BEGIN:VEVENT
DTSTART;TZID=America/New_York:20260408T140000
DTEND;TZID=America/New_York:20260408T143000
DTSTAMP:20260425T063958
CREATED:20230324T203027Z
LAST-MODIFIED:20240205T192652Z
UID:10000428-1775656800-1775658600@www.carylevinson.com
SUMMARY:Agency Automator Live Demo Training
DESCRIPTION:Click Link to Join: \nhttps://global.gotomeeting.com/join/550360733 \nDial in using your phone: \n(571) 317-3112 \nAccess Code: \n550-360-733
URL:https://www.carylevinson.com/event/agency-automator-live-demo-training/2026-04-08/
END:VEVENT
BEGIN:VEVENT
DTSTART;TZID=America/New_York:20260408T150000
DTEND;TZID=America/New_York:20260408T160000
DTSTAMP:20260425T063958
CREATED:20260327T184534Z
LAST-MODIFIED:20260327T184855Z
UID:10001427-1775660400-1775664000@www.carylevinson.com
SUMMARY:Discover the Power of the EquiTrust Bridge LTC Annuity
DESCRIPTION:Please join Crump’s Long-Term Care (LTC) Solution Center and EquiTrust as they take a deep dive into the new EquiTrust Bridge LTC annuity product. It’s a solution that blends LTC protection\, a wellness-driven rewards program\, and the growth potential of a fixed indexed annuity (FIA). \nIn the presentation we will walk through: \n\nInstant\, guaranteed approval for LTC benefits (no medical exams\, health questions\, or interviews required)\nThe unique FIA chassis providing tax-deferred growth opportunities\nHow the NeverStop health coaching and rewards program can work for your clients\nThe simple\, digital underwriting process\nA real-world case study demonstrating Bridge’s long-term value\nKey product features\, rates\, target markets\, and ideal funding strategies\n\nThis is a powerful solution for clients who want meaningful LTC protection without the complexity and underwriting barriers of traditional LTC insurance.
URL:https://www.carylevinson.com/event/discover-the-power-of-the-equitrust-bridge-ltc-annuity/
END:VEVENT
END:VCALENDAR