BEGIN:VCALENDAR
VERSION:2.0
PRODID:-//Levinson &amp; Associates - ECPv6.15.20//NONSGML v1.0//EN
CALSCALE:GREGORIAN
METHOD:PUBLISH
X-ORIGINAL-URL:https://www.carylevinson.com
X-WR-CALDESC:Events for Levinson &amp; Associates
REFRESH-INTERVAL;VALUE=DURATION:PT1H
X-Robots-Tag:noindex
X-PUBLISHED-TTL:PT1H
BEGIN:VTIMEZONE
TZID:America/New_York
BEGIN:DAYLIGHT
TZOFFSETFROM:-0500
TZOFFSETTO:-0400
TZNAME:EDT
DTSTART:20250309T070000
END:DAYLIGHT
BEGIN:STANDARD
TZOFFSETFROM:-0400
TZOFFSETTO:-0500
TZNAME:EST
DTSTART:20251102T060000
END:STANDARD
BEGIN:DAYLIGHT
TZOFFSETFROM:-0500
TZOFFSETTO:-0400
TZNAME:EDT
DTSTART:20260308T070000
END:DAYLIGHT
BEGIN:STANDARD
TZOFFSETFROM:-0400
TZOFFSETTO:-0500
TZNAME:EST
DTSTART:20261101T060000
END:STANDARD
BEGIN:DAYLIGHT
TZOFFSETFROM:-0500
TZOFFSETTO:-0400
TZNAME:EDT
DTSTART:20270314T070000
END:DAYLIGHT
BEGIN:STANDARD
TZOFFSETFROM:-0400
TZOFFSETTO:-0500
TZNAME:EST
DTSTART:20271107T060000
END:STANDARD
BEGIN:DAYLIGHT
TZOFFSETFROM:-0500
TZOFFSETTO:-0400
TZNAME:EDT
DTSTART:20280312T070000
END:DAYLIGHT
BEGIN:STANDARD
TZOFFSETFROM:-0400
TZOFFSETTO:-0500
TZNAME:EST
DTSTART:20281105T060000
END:STANDARD
END:VTIMEZONE
BEGIN:VEVENT
DTSTART;TZID=America/New_York:20260916T140000
DTEND;TZID=America/New_York:20260916T143000
DTSTAMP:20260421T144858
CREATED:20230324T203027Z
LAST-MODIFIED:20240205T192652Z
UID:10000451-1789567200-1789569000@www.carylevinson.com
SUMMARY:Agency Automator Live Demo Training
DESCRIPTION:Click Link to Join: \nhttps://global.gotomeeting.com/join/550360733 \nDial in using your phone: \n(571) 317-3112 \nAccess Code: \n550-360-733
URL:https://www.carylevinson.com/event/agency-automator-live-demo-training/2026-09-16/
END:VEVENT
BEGIN:VEVENT
DTSTART;TZID=America/New_York:20260923T140000
DTEND;TZID=America/New_York:20260923T143000
DTSTAMP:20260421T144858
CREATED:20230324T203027Z
LAST-MODIFIED:20240205T192652Z
UID:10000452-1790172000-1790173800@www.carylevinson.com
SUMMARY:Agency Automator Live Demo Training
DESCRIPTION:Click Link to Join: \nhttps://global.gotomeeting.com/join/550360733 \nDial in using your phone: \n(571) 317-3112 \nAccess Code: \n550-360-733
URL:https://www.carylevinson.com/event/agency-automator-live-demo-training/2026-09-23/
END:VEVENT
BEGIN:VEVENT
DTSTART;TZID=America/New_York:20260930T140000
DTEND;TZID=America/New_York:20260930T143000
DTSTAMP:20260421T144858
CREATED:20230324T203027Z
LAST-MODIFIED:20240205T192652Z
UID:10000453-1790776800-1790778600@www.carylevinson.com
SUMMARY:Agency Automator Live Demo Training
DESCRIPTION:Click Link to Join: \nhttps://global.gotomeeting.com/join/550360733 \nDial in using your phone: \n(571) 317-3112 \nAccess Code: \n550-360-733
URL:https://www.carylevinson.com/event/agency-automator-live-demo-training/2026-09-30/
END:VEVENT
BEGIN:VEVENT
DTSTART;TZID=America/New_York:20261007T140000
DTEND;TZID=America/New_York:20261007T143000
DTSTAMP:20260421T144858
CREATED:20230324T203027Z
LAST-MODIFIED:20240205T192652Z
UID:10000454-1791381600-1791383400@www.carylevinson.com
SUMMARY:Agency Automator Live Demo Training
DESCRIPTION:Click Link to Join: \nhttps://global.gotomeeting.com/join/550360733 \nDial in using your phone: \n(571) 317-3112 \nAccess Code: \n550-360-733
URL:https://www.carylevinson.com/event/agency-automator-live-demo-training/2026-10-07/
END:VEVENT
BEGIN:VEVENT
DTSTART;TZID=America/New_York:20261014T140000
DTEND;TZID=America/New_York:20261014T143000
DTSTAMP:20260421T144858
CREATED:20230324T203027Z
LAST-MODIFIED:20240205T192652Z
UID:10000455-1791986400-1791988200@www.carylevinson.com
SUMMARY:Agency Automator Live Demo Training
DESCRIPTION:Click Link to Join: \nhttps://global.gotomeeting.com/join/550360733 \nDial in using your phone: \n(571) 317-3112 \nAccess Code: \n550-360-733
URL:https://www.carylevinson.com/event/agency-automator-live-demo-training/2026-10-14/
END:VEVENT
BEGIN:VEVENT
DTSTART;TZID=America/New_York:20261021T140000
DTEND;TZID=America/New_York:20261021T143000
DTSTAMP:20260421T144858
CREATED:20230324T203027Z
LAST-MODIFIED:20240205T192652Z
UID:10000456-1792591200-1792593000@www.carylevinson.com
SUMMARY:Agency Automator Live Demo Training
DESCRIPTION:Click Link to Join: \nhttps://global.gotomeeting.com/join/550360733 \nDial in using your phone: \n(571) 317-3112 \nAccess Code: \n550-360-733
URL:https://www.carylevinson.com/event/agency-automator-live-demo-training/2026-10-21/
END:VEVENT
BEGIN:VEVENT
DTSTART;TZID=America/New_York:20261028T140000
DTEND;TZID=America/New_York:20261028T143000
DTSTAMP:20260421T144858
CREATED:20230324T203027Z
LAST-MODIFIED:20240205T192652Z
UID:10000457-1793196000-1793197800@www.carylevinson.com
SUMMARY:Agency Automator Live Demo Training
DESCRIPTION:Click Link to Join: \nhttps://global.gotomeeting.com/join/550360733 \nDial in using your phone: \n(571) 317-3112 \nAccess Code: \n550-360-733
URL:https://www.carylevinson.com/event/agency-automator-live-demo-training/2026-10-28/
END:VEVENT
BEGIN:VEVENT
DTSTART;TZID=America/New_York:20261104T140000
DTEND;TZID=America/New_York:20261104T143000
DTSTAMP:20260421T144858
CREATED:20230324T203027Z
LAST-MODIFIED:20240205T192652Z
UID:10000458-1793800800-1793802600@www.carylevinson.com
SUMMARY:Agency Automator Live Demo Training
DESCRIPTION:Click Link to Join: \nhttps://global.gotomeeting.com/join/550360733 \nDial in using your phone: \n(571) 317-3112 \nAccess Code: \n550-360-733
URL:https://www.carylevinson.com/event/agency-automator-live-demo-training/2026-11-04/
END:VEVENT
BEGIN:VEVENT
DTSTART;TZID=America/New_York:20261111T140000
DTEND;TZID=America/New_York:20261111T143000
DTSTAMP:20260421T144858
CREATED:20230324T203027Z
LAST-MODIFIED:20240205T192652Z
UID:10000459-1794405600-1794407400@www.carylevinson.com
SUMMARY:Agency Automator Live Demo Training
DESCRIPTION:Click Link to Join: \nhttps://global.gotomeeting.com/join/550360733 \nDial in using your phone: \n(571) 317-3112 \nAccess Code: \n550-360-733
URL:https://www.carylevinson.com/event/agency-automator-live-demo-training/2026-11-11/
END:VEVENT
BEGIN:VEVENT
DTSTART;TZID=America/New_York:20261118T140000
DTEND;TZID=America/New_York:20261118T143000
DTSTAMP:20260421T144858
CREATED:20230324T203027Z
LAST-MODIFIED:20240205T192652Z
UID:10000460-1795010400-1795012200@www.carylevinson.com
SUMMARY:Agency Automator Live Demo Training
DESCRIPTION:Click Link to Join: \nhttps://global.gotomeeting.com/join/550360733 \nDial in using your phone: \n(571) 317-3112 \nAccess Code: \n550-360-733
URL:https://www.carylevinson.com/event/agency-automator-live-demo-training/2026-11-18/
END:VEVENT
BEGIN:VEVENT
DTSTART;TZID=America/New_York:20261125T140000
DTEND;TZID=America/New_York:20261125T143000
DTSTAMP:20260421T144858
CREATED:20230324T203027Z
LAST-MODIFIED:20240205T192652Z
UID:10000461-1795615200-1795617000@www.carylevinson.com
SUMMARY:Agency Automator Live Demo Training
DESCRIPTION:Click Link to Join: \nhttps://global.gotomeeting.com/join/550360733 \nDial in using your phone: \n(571) 317-3112 \nAccess Code: \n550-360-733
URL:https://www.carylevinson.com/event/agency-automator-live-demo-training/2026-11-25/
END:VEVENT
BEGIN:VEVENT
DTSTART;TZID=America/New_York:20261202T140000
DTEND;TZID=America/New_York:20261202T143000
DTSTAMP:20260421T144858
CREATED:20230324T203027Z
LAST-MODIFIED:20240205T192652Z
UID:10000462-1796220000-1796221800@www.carylevinson.com
SUMMARY:Agency Automator Live Demo Training
DESCRIPTION:Click Link to Join: \nhttps://global.gotomeeting.com/join/550360733 \nDial in using your phone: \n(571) 317-3112 \nAccess Code: \n550-360-733
URL:https://www.carylevinson.com/event/agency-automator-live-demo-training/2026-12-02/
END:VEVENT
BEGIN:VEVENT
DTSTART;TZID=America/New_York:20261209T140000
DTEND;TZID=America/New_York:20261209T143000
DTSTAMP:20260421T144858
CREATED:20230324T203027Z
LAST-MODIFIED:20240205T192652Z
UID:10000463-1796824800-1796826600@www.carylevinson.com
SUMMARY:Agency Automator Live Demo Training
DESCRIPTION:Click Link to Join: \nhttps://global.gotomeeting.com/join/550360733 \nDial in using your phone: \n(571) 317-3112 \nAccess Code: \n550-360-733
URL:https://www.carylevinson.com/event/agency-automator-live-demo-training/2026-12-09/
END:VEVENT
BEGIN:VEVENT
DTSTART;TZID=America/New_York:20261216T140000
DTEND;TZID=America/New_York:20261216T143000
DTSTAMP:20260421T144858
CREATED:20230324T203027Z
LAST-MODIFIED:20240205T192652Z
UID:10000464-1797429600-1797431400@www.carylevinson.com
SUMMARY:Agency Automator Live Demo Training
DESCRIPTION:Click Link to Join: \nhttps://global.gotomeeting.com/join/550360733 \nDial in using your phone: \n(571) 317-3112 \nAccess Code: \n550-360-733
URL:https://www.carylevinson.com/event/agency-automator-live-demo-training/2026-12-16/
END:VEVENT
BEGIN:VEVENT
DTSTART;TZID=America/New_York:20261223T140000
DTEND;TZID=America/New_York:20261223T143000
DTSTAMP:20260421T144858
CREATED:20230324T203027Z
LAST-MODIFIED:20240205T192652Z
UID:10000465-1798034400-1798036200@www.carylevinson.com
SUMMARY:Agency Automator Live Demo Training
DESCRIPTION:Click Link to Join: \nhttps://global.gotomeeting.com/join/550360733 \nDial in using your phone: \n(571) 317-3112 \nAccess Code: \n550-360-733
URL:https://www.carylevinson.com/event/agency-automator-live-demo-training/2026-12-23/
END:VEVENT
BEGIN:VEVENT
DTSTART;TZID=America/New_York:20261230T140000
DTEND;TZID=America/New_York:20261230T143000
DTSTAMP:20260421T144858
CREATED:20230324T203027Z
LAST-MODIFIED:20240205T192652Z
UID:10000466-1798639200-1798641000@www.carylevinson.com
SUMMARY:Agency Automator Live Demo Training
DESCRIPTION:Click Link to Join: \nhttps://global.gotomeeting.com/join/550360733 \nDial in using your phone: \n(571) 317-3112 \nAccess Code: \n550-360-733
URL:https://www.carylevinson.com/event/agency-automator-live-demo-training/2026-12-30/
END:VEVENT
BEGIN:VEVENT
DTSTART;TZID=America/New_York:20270106T140000
DTEND;TZID=America/New_York:20270106T143000
DTSTAMP:20260421T144858
CREATED:20230324T203027Z
LAST-MODIFIED:20240205T192652Z
UID:10000467-1799244000-1799245800@www.carylevinson.com
SUMMARY:Agency Automator Live Demo Training
DESCRIPTION:Click Link to Join: \nhttps://global.gotomeeting.com/join/550360733 \nDial in using your phone: \n(571) 317-3112 \nAccess Code: \n550-360-733
URL:https://www.carylevinson.com/event/agency-automator-live-demo-training/2027-01-06/
END:VEVENT
BEGIN:VEVENT
DTSTART;TZID=America/New_York:20270113T140000
DTEND;TZID=America/New_York:20270113T143000
DTSTAMP:20260421T144858
CREATED:20230324T203027Z
LAST-MODIFIED:20240205T192652Z
UID:10000468-1799848800-1799850600@www.carylevinson.com
SUMMARY:Agency Automator Live Demo Training
DESCRIPTION:Click Link to Join: \nhttps://global.gotomeeting.com/join/550360733 \nDial in using your phone: \n(571) 317-3112 \nAccess Code: \n550-360-733
URL:https://www.carylevinson.com/event/agency-automator-live-demo-training/2027-01-13/
END:VEVENT
BEGIN:VEVENT
DTSTART;TZID=America/New_York:20270120T140000
DTEND;TZID=America/New_York:20270120T143000
DTSTAMP:20260421T144858
CREATED:20230324T203027Z
LAST-MODIFIED:20240205T192652Z
UID:10000469-1800453600-1800455400@www.carylevinson.com
SUMMARY:Agency Automator Live Demo Training
DESCRIPTION:Click Link to Join: \nhttps://global.gotomeeting.com/join/550360733 \nDial in using your phone: \n(571) 317-3112 \nAccess Code: \n550-360-733
URL:https://www.carylevinson.com/event/agency-automator-live-demo-training/2027-01-20/
END:VEVENT
BEGIN:VEVENT
DTSTART;TZID=America/New_York:20270127T140000
DTEND;TZID=America/New_York:20270127T143000
DTSTAMP:20260421T144858
CREATED:20230324T203027Z
LAST-MODIFIED:20240205T192652Z
UID:10000470-1801058400-1801060200@www.carylevinson.com
SUMMARY:Agency Automator Live Demo Training
DESCRIPTION:Click Link to Join: \nhttps://global.gotomeeting.com/join/550360733 \nDial in using your phone: \n(571) 317-3112 \nAccess Code: \n550-360-733
URL:https://www.carylevinson.com/event/agency-automator-live-demo-training/2027-01-27/
END:VEVENT
BEGIN:VEVENT
DTSTART;TZID=America/New_York:20270203T140000
DTEND;TZID=America/New_York:20270203T143000
DTSTAMP:20260421T144858
CREATED:20230324T203027Z
LAST-MODIFIED:20240205T192652Z
UID:10000471-1801663200-1801665000@www.carylevinson.com
SUMMARY:Agency Automator Live Demo Training
DESCRIPTION:Click Link to Join: \nhttps://global.gotomeeting.com/join/550360733 \nDial in using your phone: \n(571) 317-3112 \nAccess Code: \n550-360-733
URL:https://www.carylevinson.com/event/agency-automator-live-demo-training/2027-02-03/
END:VEVENT
BEGIN:VEVENT
DTSTART;TZID=America/New_York:20270210T140000
DTEND;TZID=America/New_York:20270210T143000
DTSTAMP:20260421T144858
CREATED:20230324T203027Z
LAST-MODIFIED:20240205T192652Z
UID:10000472-1802268000-1802269800@www.carylevinson.com
SUMMARY:Agency Automator Live Demo Training
DESCRIPTION:Click Link to Join: \nhttps://global.gotomeeting.com/join/550360733 \nDial in using your phone: \n(571) 317-3112 \nAccess Code: \n550-360-733
URL:https://www.carylevinson.com/event/agency-automator-live-demo-training/2027-02-10/
END:VEVENT
BEGIN:VEVENT
DTSTART;TZID=America/New_York:20270217T140000
DTEND;TZID=America/New_York:20270217T143000
DTSTAMP:20260421T144858
CREATED:20230324T203027Z
LAST-MODIFIED:20240205T192652Z
UID:10000473-1802872800-1802874600@www.carylevinson.com
SUMMARY:Agency Automator Live Demo Training
DESCRIPTION:Click Link to Join: \nhttps://global.gotomeeting.com/join/550360733 \nDial in using your phone: \n(571) 317-3112 \nAccess Code: \n550-360-733
URL:https://www.carylevinson.com/event/agency-automator-live-demo-training/2027-02-17/
END:VEVENT
BEGIN:VEVENT
DTSTART;TZID=America/New_York:20270224T140000
DTEND;TZID=America/New_York:20270224T143000
DTSTAMP:20260421T144858
CREATED:20230324T203027Z
LAST-MODIFIED:20240205T192652Z
UID:10000474-1803477600-1803479400@www.carylevinson.com
SUMMARY:Agency Automator Live Demo Training
DESCRIPTION:Click Link to Join: \nhttps://global.gotomeeting.com/join/550360733 \nDial in using your phone: \n(571) 317-3112 \nAccess Code: \n550-360-733
URL:https://www.carylevinson.com/event/agency-automator-live-demo-training/2027-02-24/
END:VEVENT
BEGIN:VEVENT
DTSTART;TZID=America/New_York:20270303T140000
DTEND;TZID=America/New_York:20270303T143000
DTSTAMP:20260421T144858
CREATED:20230324T203027Z
LAST-MODIFIED:20240205T192652Z
UID:10000475-1804082400-1804084200@www.carylevinson.com
SUMMARY:Agency Automator Live Demo Training
DESCRIPTION:Click Link to Join: \nhttps://global.gotomeeting.com/join/550360733 \nDial in using your phone: \n(571) 317-3112 \nAccess Code: \n550-360-733
URL:https://www.carylevinson.com/event/agency-automator-live-demo-training/2027-03-03/
END:VEVENT
BEGIN:VEVENT
DTSTART;TZID=America/New_York:20270310T140000
DTEND;TZID=America/New_York:20270310T143000
DTSTAMP:20260421T144858
CREATED:20230324T203027Z
LAST-MODIFIED:20240205T192652Z
UID:10000476-1804687200-1804689000@www.carylevinson.com
SUMMARY:Agency Automator Live Demo Training
DESCRIPTION:Click Link to Join: \nhttps://global.gotomeeting.com/join/550360733 \nDial in using your phone: \n(571) 317-3112 \nAccess Code: \n550-360-733
URL:https://www.carylevinson.com/event/agency-automator-live-demo-training/2027-03-10/
END:VEVENT
BEGIN:VEVENT
DTSTART;TZID=America/New_York:20270317T140000
DTEND;TZID=America/New_York:20270317T143000
DTSTAMP:20260421T144858
CREATED:20230324T203027Z
LAST-MODIFIED:20240205T192652Z
UID:10000477-1805292000-1805293800@www.carylevinson.com
SUMMARY:Agency Automator Live Demo Training
DESCRIPTION:Click Link to Join: \nhttps://global.gotomeeting.com/join/550360733 \nDial in using your phone: \n(571) 317-3112 \nAccess Code: \n550-360-733
URL:https://www.carylevinson.com/event/agency-automator-live-demo-training/2027-03-17/
END:VEVENT
BEGIN:VEVENT
DTSTART;TZID=America/New_York:20270324T140000
DTEND;TZID=America/New_York:20270324T143000
DTSTAMP:20260421T144858
CREATED:20230324T203027Z
LAST-MODIFIED:20240205T192652Z
UID:10000478-1805896800-1805898600@www.carylevinson.com
SUMMARY:Agency Automator Live Demo Training
DESCRIPTION:Click Link to Join: \nhttps://global.gotomeeting.com/join/550360733 \nDial in using your phone: \n(571) 317-3112 \nAccess Code: \n550-360-733
URL:https://www.carylevinson.com/event/agency-automator-live-demo-training/2027-03-24/
END:VEVENT
BEGIN:VEVENT
DTSTART;TZID=America/New_York:20270331T140000
DTEND;TZID=America/New_York:20270331T143000
DTSTAMP:20260421T144858
CREATED:20230324T203027Z
LAST-MODIFIED:20240205T192652Z
UID:10000479-1806501600-1806503400@www.carylevinson.com
SUMMARY:Agency Automator Live Demo Training
DESCRIPTION:Click Link to Join: \nhttps://global.gotomeeting.com/join/550360733 \nDial in using your phone: \n(571) 317-3112 \nAccess Code: \n550-360-733
URL:https://www.carylevinson.com/event/agency-automator-live-demo-training/2027-03-31/
END:VEVENT
BEGIN:VEVENT
DTSTART;TZID=America/New_York:20270407T140000
DTEND;TZID=America/New_York:20270407T143000
DTSTAMP:20260421T144858
CREATED:20230324T203027Z
LAST-MODIFIED:20240205T192652Z
UID:10000480-1807106400-1807108200@www.carylevinson.com
SUMMARY:Agency Automator Live Demo Training
DESCRIPTION:Click Link to Join: \nhttps://global.gotomeeting.com/join/550360733 \nDial in using your phone: \n(571) 317-3112 \nAccess Code: \n550-360-733
URL:https://www.carylevinson.com/event/agency-automator-live-demo-training/2027-04-07/
END:VEVENT
END:VCALENDAR