BEGIN:VCALENDAR
VERSION:2.0
PRODID:-//Levinson &amp; Associates - ECPv6.15.20//NONSGML v1.0//EN
CALSCALE:GREGORIAN
METHOD:PUBLISH
X-ORIGINAL-URL:https://www.carylevinson.com
X-WR-CALDESC:Events for Levinson &amp; Associates
REFRESH-INTERVAL;VALUE=DURATION:PT1H
X-Robots-Tag:noindex
X-PUBLISHED-TTL:PT1H
BEGIN:VTIMEZONE
TZID:America/New_York
BEGIN:DAYLIGHT
TZOFFSETFROM:-0500
TZOFFSETTO:-0400
TZNAME:EDT
DTSTART:20260308T070000
END:DAYLIGHT
BEGIN:STANDARD
TZOFFSETFROM:-0400
TZOFFSETTO:-0500
TZNAME:EST
DTSTART:20261101T060000
END:STANDARD
BEGIN:DAYLIGHT
TZOFFSETFROM:-0500
TZOFFSETTO:-0400
TZNAME:EDT
DTSTART:20270314T070000
END:DAYLIGHT
BEGIN:STANDARD
TZOFFSETFROM:-0400
TZOFFSETTO:-0500
TZNAME:EST
DTSTART:20271107T060000
END:STANDARD
BEGIN:DAYLIGHT
TZOFFSETFROM:-0500
TZOFFSETTO:-0400
TZNAME:EDT
DTSTART:20280312T070000
END:DAYLIGHT
BEGIN:STANDARD
TZOFFSETFROM:-0400
TZOFFSETTO:-0500
TZNAME:EST
DTSTART:20281105T060000
END:STANDARD
END:VTIMEZONE
BEGIN:VEVENT
DTSTART;TZID=America/New_York:20270414T140000
DTEND;TZID=America/New_York:20270414T143000
DTSTAMP:20260421T205420
CREATED:20230324T203027Z
LAST-MODIFIED:20240205T192652Z
UID:10000481-1807711200-1807713000@www.carylevinson.com
SUMMARY:Agency Automator Live Demo Training
DESCRIPTION:Click Link to Join: \nhttps://global.gotomeeting.com/join/550360733 \nDial in using your phone: \n(571) 317-3112 \nAccess Code: \n550-360-733
URL:https://www.carylevinson.com/event/agency-automator-live-demo-training/2027-04-14/
END:VEVENT
BEGIN:VEVENT
DTSTART;TZID=America/New_York:20270421T140000
DTEND;TZID=America/New_York:20270421T143000
DTSTAMP:20260421T205420
CREATED:20230324T203027Z
LAST-MODIFIED:20240205T192652Z
UID:10000482-1808316000-1808317800@www.carylevinson.com
SUMMARY:Agency Automator Live Demo Training
DESCRIPTION:Click Link to Join: \nhttps://global.gotomeeting.com/join/550360733 \nDial in using your phone: \n(571) 317-3112 \nAccess Code: \n550-360-733
URL:https://www.carylevinson.com/event/agency-automator-live-demo-training/2027-04-21/
END:VEVENT
BEGIN:VEVENT
DTSTART;TZID=America/New_York:20270428T140000
DTEND;TZID=America/New_York:20270428T143000
DTSTAMP:20260421T205420
CREATED:20230324T203027Z
LAST-MODIFIED:20240205T192652Z
UID:10000483-1808920800-1808922600@www.carylevinson.com
SUMMARY:Agency Automator Live Demo Training
DESCRIPTION:Click Link to Join: \nhttps://global.gotomeeting.com/join/550360733 \nDial in using your phone: \n(571) 317-3112 \nAccess Code: \n550-360-733
URL:https://www.carylevinson.com/event/agency-automator-live-demo-training/2027-04-28/
END:VEVENT
BEGIN:VEVENT
DTSTART;TZID=America/New_York:20270505T140000
DTEND;TZID=America/New_York:20270505T143000
DTSTAMP:20260421T205420
CREATED:20230324T203027Z
LAST-MODIFIED:20240205T192652Z
UID:10000484-1809525600-1809527400@www.carylevinson.com
SUMMARY:Agency Automator Live Demo Training
DESCRIPTION:Click Link to Join: \nhttps://global.gotomeeting.com/join/550360733 \nDial in using your phone: \n(571) 317-3112 \nAccess Code: \n550-360-733
URL:https://www.carylevinson.com/event/agency-automator-live-demo-training/2027-05-05/
END:VEVENT
BEGIN:VEVENT
DTSTART;TZID=America/New_York:20270512T140000
DTEND;TZID=America/New_York:20270512T143000
DTSTAMP:20260421T205420
CREATED:20230324T203027Z
LAST-MODIFIED:20240205T192652Z
UID:10000485-1810130400-1810132200@www.carylevinson.com
SUMMARY:Agency Automator Live Demo Training
DESCRIPTION:Click Link to Join: \nhttps://global.gotomeeting.com/join/550360733 \nDial in using your phone: \n(571) 317-3112 \nAccess Code: \n550-360-733
URL:https://www.carylevinson.com/event/agency-automator-live-demo-training/2027-05-12/
END:VEVENT
BEGIN:VEVENT
DTSTART;TZID=America/New_York:20270519T140000
DTEND;TZID=America/New_York:20270519T143000
DTSTAMP:20260421T205420
CREATED:20230324T203027Z
LAST-MODIFIED:20240205T192652Z
UID:10000486-1810735200-1810737000@www.carylevinson.com
SUMMARY:Agency Automator Live Demo Training
DESCRIPTION:Click Link to Join: \nhttps://global.gotomeeting.com/join/550360733 \nDial in using your phone: \n(571) 317-3112 \nAccess Code: \n550-360-733
URL:https://www.carylevinson.com/event/agency-automator-live-demo-training/2027-05-19/
END:VEVENT
BEGIN:VEVENT
DTSTART;TZID=America/New_York:20270526T140000
DTEND;TZID=America/New_York:20270526T143000
DTSTAMP:20260421T205420
CREATED:20230324T203027Z
LAST-MODIFIED:20240205T192652Z
UID:10000487-1811340000-1811341800@www.carylevinson.com
SUMMARY:Agency Automator Live Demo Training
DESCRIPTION:Click Link to Join: \nhttps://global.gotomeeting.com/join/550360733 \nDial in using your phone: \n(571) 317-3112 \nAccess Code: \n550-360-733
URL:https://www.carylevinson.com/event/agency-automator-live-demo-training/2027-05-26/
END:VEVENT
BEGIN:VEVENT
DTSTART;TZID=America/New_York:20270602T140000
DTEND;TZID=America/New_York:20270602T143000
DTSTAMP:20260421T205420
CREATED:20230324T203027Z
LAST-MODIFIED:20240205T192652Z
UID:10000488-1811944800-1811946600@www.carylevinson.com
SUMMARY:Agency Automator Live Demo Training
DESCRIPTION:Click Link to Join: \nhttps://global.gotomeeting.com/join/550360733 \nDial in using your phone: \n(571) 317-3112 \nAccess Code: \n550-360-733
URL:https://www.carylevinson.com/event/agency-automator-live-demo-training/2027-06-02/
END:VEVENT
BEGIN:VEVENT
DTSTART;TZID=America/New_York:20270609T140000
DTEND;TZID=America/New_York:20270609T143000
DTSTAMP:20260421T205420
CREATED:20230324T203027Z
LAST-MODIFIED:20240205T192652Z
UID:10000489-1812549600-1812551400@www.carylevinson.com
SUMMARY:Agency Automator Live Demo Training
DESCRIPTION:Click Link to Join: \nhttps://global.gotomeeting.com/join/550360733 \nDial in using your phone: \n(571) 317-3112 \nAccess Code: \n550-360-733
URL:https://www.carylevinson.com/event/agency-automator-live-demo-training/2027-06-09/
END:VEVENT
BEGIN:VEVENT
DTSTART;TZID=America/New_York:20270616T140000
DTEND;TZID=America/New_York:20270616T143000
DTSTAMP:20260421T205420
CREATED:20230324T203027Z
LAST-MODIFIED:20240205T192652Z
UID:10000490-1813154400-1813156200@www.carylevinson.com
SUMMARY:Agency Automator Live Demo Training
DESCRIPTION:Click Link to Join: \nhttps://global.gotomeeting.com/join/550360733 \nDial in using your phone: \n(571) 317-3112 \nAccess Code: \n550-360-733
URL:https://www.carylevinson.com/event/agency-automator-live-demo-training/2027-06-16/
END:VEVENT
BEGIN:VEVENT
DTSTART;TZID=America/New_York:20270623T140000
DTEND;TZID=America/New_York:20270623T143000
DTSTAMP:20260421T205420
CREATED:20230324T203027Z
LAST-MODIFIED:20240205T192652Z
UID:10000491-1813759200-1813761000@www.carylevinson.com
SUMMARY:Agency Automator Live Demo Training
DESCRIPTION:Click Link to Join: \nhttps://global.gotomeeting.com/join/550360733 \nDial in using your phone: \n(571) 317-3112 \nAccess Code: \n550-360-733
URL:https://www.carylevinson.com/event/agency-automator-live-demo-training/2027-06-23/
END:VEVENT
BEGIN:VEVENT
DTSTART;TZID=America/New_York:20270630T140000
DTEND;TZID=America/New_York:20270630T143000
DTSTAMP:20260421T205420
CREATED:20230324T203027Z
LAST-MODIFIED:20240205T192652Z
UID:10000492-1814364000-1814365800@www.carylevinson.com
SUMMARY:Agency Automator Live Demo Training
DESCRIPTION:Click Link to Join: \nhttps://global.gotomeeting.com/join/550360733 \nDial in using your phone: \n(571) 317-3112 \nAccess Code: \n550-360-733
URL:https://www.carylevinson.com/event/agency-automator-live-demo-training/2027-06-30/
END:VEVENT
BEGIN:VEVENT
DTSTART;TZID=America/New_York:20270707T140000
DTEND;TZID=America/New_York:20270707T143000
DTSTAMP:20260421T205420
CREATED:20230324T203027Z
LAST-MODIFIED:20240205T192652Z
UID:10000493-1814968800-1814970600@www.carylevinson.com
SUMMARY:Agency Automator Live Demo Training
DESCRIPTION:Click Link to Join: \nhttps://global.gotomeeting.com/join/550360733 \nDial in using your phone: \n(571) 317-3112 \nAccess Code: \n550-360-733
URL:https://www.carylevinson.com/event/agency-automator-live-demo-training/2027-07-07/
END:VEVENT
BEGIN:VEVENT
DTSTART;TZID=America/New_York:20270714T140000
DTEND;TZID=America/New_York:20270714T143000
DTSTAMP:20260421T205420
CREATED:20230324T203027Z
LAST-MODIFIED:20240205T192652Z
UID:10000494-1815573600-1815575400@www.carylevinson.com
SUMMARY:Agency Automator Live Demo Training
DESCRIPTION:Click Link to Join: \nhttps://global.gotomeeting.com/join/550360733 \nDial in using your phone: \n(571) 317-3112 \nAccess Code: \n550-360-733
URL:https://www.carylevinson.com/event/agency-automator-live-demo-training/2027-07-14/
END:VEVENT
BEGIN:VEVENT
DTSTART;TZID=America/New_York:20270721T140000
DTEND;TZID=America/New_York:20270721T143000
DTSTAMP:20260421T205420
CREATED:20230324T203027Z
LAST-MODIFIED:20240205T192652Z
UID:10000495-1816178400-1816180200@www.carylevinson.com
SUMMARY:Agency Automator Live Demo Training
DESCRIPTION:Click Link to Join: \nhttps://global.gotomeeting.com/join/550360733 \nDial in using your phone: \n(571) 317-3112 \nAccess Code: \n550-360-733
URL:https://www.carylevinson.com/event/agency-automator-live-demo-training/2027-07-21/
END:VEVENT
BEGIN:VEVENT
DTSTART;TZID=America/New_York:20270728T140000
DTEND;TZID=America/New_York:20270728T143000
DTSTAMP:20260421T205420
CREATED:20230324T203027Z
LAST-MODIFIED:20240205T192652Z
UID:10000496-1816783200-1816785000@www.carylevinson.com
SUMMARY:Agency Automator Live Demo Training
DESCRIPTION:Click Link to Join: \nhttps://global.gotomeeting.com/join/550360733 \nDial in using your phone: \n(571) 317-3112 \nAccess Code: \n550-360-733
URL:https://www.carylevinson.com/event/agency-automator-live-demo-training/2027-07-28/
END:VEVENT
BEGIN:VEVENT
DTSTART;TZID=America/New_York:20270804T140000
DTEND;TZID=America/New_York:20270804T143000
DTSTAMP:20260421T205420
CREATED:20230324T203027Z
LAST-MODIFIED:20240205T192652Z
UID:10000497-1817388000-1817389800@www.carylevinson.com
SUMMARY:Agency Automator Live Demo Training
DESCRIPTION:Click Link to Join: \nhttps://global.gotomeeting.com/join/550360733 \nDial in using your phone: \n(571) 317-3112 \nAccess Code: \n550-360-733
URL:https://www.carylevinson.com/event/agency-automator-live-demo-training/2027-08-04/
END:VEVENT
BEGIN:VEVENT
DTSTART;TZID=America/New_York:20270811T140000
DTEND;TZID=America/New_York:20270811T143000
DTSTAMP:20260421T205420
CREATED:20230324T203027Z
LAST-MODIFIED:20240205T192652Z
UID:10000498-1817992800-1817994600@www.carylevinson.com
SUMMARY:Agency Automator Live Demo Training
DESCRIPTION:Click Link to Join: \nhttps://global.gotomeeting.com/join/550360733 \nDial in using your phone: \n(571) 317-3112 \nAccess Code: \n550-360-733
URL:https://www.carylevinson.com/event/agency-automator-live-demo-training/2027-08-11/
END:VEVENT
BEGIN:VEVENT
DTSTART;TZID=America/New_York:20270818T140000
DTEND;TZID=America/New_York:20270818T143000
DTSTAMP:20260421T205420
CREATED:20230324T203027Z
LAST-MODIFIED:20240205T192652Z
UID:10000499-1818597600-1818599400@www.carylevinson.com
SUMMARY:Agency Automator Live Demo Training
DESCRIPTION:Click Link to Join: \nhttps://global.gotomeeting.com/join/550360733 \nDial in using your phone: \n(571) 317-3112 \nAccess Code: \n550-360-733
URL:https://www.carylevinson.com/event/agency-automator-live-demo-training/2027-08-18/
END:VEVENT
BEGIN:VEVENT
DTSTART;TZID=America/New_York:20270825T140000
DTEND;TZID=America/New_York:20270825T143000
DTSTAMP:20260421T205420
CREATED:20230324T203027Z
LAST-MODIFIED:20240205T192652Z
UID:10000500-1819202400-1819204200@www.carylevinson.com
SUMMARY:Agency Automator Live Demo Training
DESCRIPTION:Click Link to Join: \nhttps://global.gotomeeting.com/join/550360733 \nDial in using your phone: \n(571) 317-3112 \nAccess Code: \n550-360-733
URL:https://www.carylevinson.com/event/agency-automator-live-demo-training/2027-08-25/
END:VEVENT
BEGIN:VEVENT
DTSTART;TZID=America/New_York:20270901T140000
DTEND;TZID=America/New_York:20270901T143000
DTSTAMP:20260421T205420
CREATED:20230324T203027Z
LAST-MODIFIED:20240205T192652Z
UID:10000501-1819807200-1819809000@www.carylevinson.com
SUMMARY:Agency Automator Live Demo Training
DESCRIPTION:Click Link to Join: \nhttps://global.gotomeeting.com/join/550360733 \nDial in using your phone: \n(571) 317-3112 \nAccess Code: \n550-360-733
URL:https://www.carylevinson.com/event/agency-automator-live-demo-training/2027-09-01/
END:VEVENT
BEGIN:VEVENT
DTSTART;TZID=America/New_York:20270908T140000
DTEND;TZID=America/New_York:20270908T143000
DTSTAMP:20260421T205420
CREATED:20230324T203027Z
LAST-MODIFIED:20240205T192652Z
UID:10000502-1820412000-1820413800@www.carylevinson.com
SUMMARY:Agency Automator Live Demo Training
DESCRIPTION:Click Link to Join: \nhttps://global.gotomeeting.com/join/550360733 \nDial in using your phone: \n(571) 317-3112 \nAccess Code: \n550-360-733
URL:https://www.carylevinson.com/event/agency-automator-live-demo-training/2027-09-08/
END:VEVENT
BEGIN:VEVENT
DTSTART;TZID=America/New_York:20270915T140000
DTEND;TZID=America/New_York:20270915T143000
DTSTAMP:20260421T205420
CREATED:20230324T203027Z
LAST-MODIFIED:20240205T192652Z
UID:10000503-1821016800-1821018600@www.carylevinson.com
SUMMARY:Agency Automator Live Demo Training
DESCRIPTION:Click Link to Join: \nhttps://global.gotomeeting.com/join/550360733 \nDial in using your phone: \n(571) 317-3112 \nAccess Code: \n550-360-733
URL:https://www.carylevinson.com/event/agency-automator-live-demo-training/2027-09-15/
END:VEVENT
BEGIN:VEVENT
DTSTART;TZID=America/New_York:20270922T140000
DTEND;TZID=America/New_York:20270922T143000
DTSTAMP:20260421T205420
CREATED:20230324T203027Z
LAST-MODIFIED:20240205T192652Z
UID:10000504-1821621600-1821623400@www.carylevinson.com
SUMMARY:Agency Automator Live Demo Training
DESCRIPTION:Click Link to Join: \nhttps://global.gotomeeting.com/join/550360733 \nDial in using your phone: \n(571) 317-3112 \nAccess Code: \n550-360-733
URL:https://www.carylevinson.com/event/agency-automator-live-demo-training/2027-09-22/
END:VEVENT
BEGIN:VEVENT
DTSTART;TZID=America/New_York:20270929T140000
DTEND;TZID=America/New_York:20270929T143000
DTSTAMP:20260421T205420
CREATED:20230324T203027Z
LAST-MODIFIED:20240205T192652Z
UID:10000505-1822226400-1822228200@www.carylevinson.com
SUMMARY:Agency Automator Live Demo Training
DESCRIPTION:Click Link to Join: \nhttps://global.gotomeeting.com/join/550360733 \nDial in using your phone: \n(571) 317-3112 \nAccess Code: \n550-360-733
URL:https://www.carylevinson.com/event/agency-automator-live-demo-training/2027-09-29/
END:VEVENT
BEGIN:VEVENT
DTSTART;TZID=America/New_York:20271006T140000
DTEND;TZID=America/New_York:20271006T143000
DTSTAMP:20260421T205420
CREATED:20230324T203027Z
LAST-MODIFIED:20240205T192652Z
UID:10000506-1822831200-1822833000@www.carylevinson.com
SUMMARY:Agency Automator Live Demo Training
DESCRIPTION:Click Link to Join: \nhttps://global.gotomeeting.com/join/550360733 \nDial in using your phone: \n(571) 317-3112 \nAccess Code: \n550-360-733
URL:https://www.carylevinson.com/event/agency-automator-live-demo-training/2027-10-06/
END:VEVENT
BEGIN:VEVENT
DTSTART;TZID=America/New_York:20271013T140000
DTEND;TZID=America/New_York:20271013T143000
DTSTAMP:20260421T205420
CREATED:20230324T203027Z
LAST-MODIFIED:20240205T192652Z
UID:10000507-1823436000-1823437800@www.carylevinson.com
SUMMARY:Agency Automator Live Demo Training
DESCRIPTION:Click Link to Join: \nhttps://global.gotomeeting.com/join/550360733 \nDial in using your phone: \n(571) 317-3112 \nAccess Code: \n550-360-733
URL:https://www.carylevinson.com/event/agency-automator-live-demo-training/2027-10-13/
END:VEVENT
BEGIN:VEVENT
DTSTART;TZID=America/New_York:20271020T140000
DTEND;TZID=America/New_York:20271020T143000
DTSTAMP:20260421T205420
CREATED:20230324T203027Z
LAST-MODIFIED:20240205T192652Z
UID:10000508-1824040800-1824042600@www.carylevinson.com
SUMMARY:Agency Automator Live Demo Training
DESCRIPTION:Click Link to Join: \nhttps://global.gotomeeting.com/join/550360733 \nDial in using your phone: \n(571) 317-3112 \nAccess Code: \n550-360-733
URL:https://www.carylevinson.com/event/agency-automator-live-demo-training/2027-10-20/
END:VEVENT
BEGIN:VEVENT
DTSTART;TZID=America/New_York:20271027T140000
DTEND;TZID=America/New_York:20271027T143000
DTSTAMP:20260421T205420
CREATED:20230324T203027Z
LAST-MODIFIED:20240205T192652Z
UID:10000509-1824645600-1824647400@www.carylevinson.com
SUMMARY:Agency Automator Live Demo Training
DESCRIPTION:Click Link to Join: \nhttps://global.gotomeeting.com/join/550360733 \nDial in using your phone: \n(571) 317-3112 \nAccess Code: \n550-360-733
URL:https://www.carylevinson.com/event/agency-automator-live-demo-training/2027-10-27/
END:VEVENT
BEGIN:VEVENT
DTSTART;TZID=America/New_York:20271103T140000
DTEND;TZID=America/New_York:20271103T143000
DTSTAMP:20260421T205420
CREATED:20230324T203027Z
LAST-MODIFIED:20240205T192652Z
UID:10000510-1825250400-1825252200@www.carylevinson.com
SUMMARY:Agency Automator Live Demo Training
DESCRIPTION:Click Link to Join: \nhttps://global.gotomeeting.com/join/550360733 \nDial in using your phone: \n(571) 317-3112 \nAccess Code: \n550-360-733
URL:https://www.carylevinson.com/event/agency-automator-live-demo-training/2027-11-03/
END:VEVENT
END:VCALENDAR