BEGIN:VCALENDAR
VERSION:2.0
PRODID:-//Levinson &amp; Associates - ECPv6.15.20//NONSGML v1.0//EN
CALSCALE:GREGORIAN
METHOD:PUBLISH
X-WR-CALNAME:Levinson &amp; Associates
X-ORIGINAL-URL:https://www.carylevinson.com
X-WR-CALDESC:Events for Levinson &amp; Associates
REFRESH-INTERVAL;VALUE=DURATION:PT1H
X-Robots-Tag:noindex
X-PUBLISHED-TTL:PT1H
BEGIN:VTIMEZONE
TZID:America/New_York
BEGIN:DAYLIGHT
TZOFFSETFROM:-0500
TZOFFSETTO:-0400
TZNAME:EDT
DTSTART:20240310T070000
END:DAYLIGHT
BEGIN:STANDARD
TZOFFSETFROM:-0400
TZOFFSETTO:-0500
TZNAME:EST
DTSTART:20241103T060000
END:STANDARD
BEGIN:DAYLIGHT
TZOFFSETFROM:-0500
TZOFFSETTO:-0400
TZNAME:EDT
DTSTART:20250309T070000
END:DAYLIGHT
BEGIN:STANDARD
TZOFFSETFROM:-0400
TZOFFSETTO:-0500
TZNAME:EST
DTSTART:20251102T060000
END:STANDARD
BEGIN:DAYLIGHT
TZOFFSETFROM:-0500
TZOFFSETTO:-0400
TZNAME:EDT
DTSTART:20260308T070000
END:DAYLIGHT
BEGIN:STANDARD
TZOFFSETFROM:-0400
TZOFFSETTO:-0500
TZNAME:EST
DTSTART:20261101T060000
END:STANDARD
END:VTIMEZONE
BEGIN:VEVENT
DTSTART;TZID=America/New_York:20251105T140000
DTEND;TZID=America/New_York:20251105T143000
DTSTAMP:20260421T234408
CREATED:20230324T203027Z
LAST-MODIFIED:20240205T192652Z
UID:10000406-1762351200-1762353000@www.carylevinson.com
SUMMARY:Agency Automator Live Demo Training
DESCRIPTION:Click Link to Join: \nhttps://global.gotomeeting.com/join/550360733 \nDial in using your phone: \n(571) 317-3112 \nAccess Code: \n550-360-733
URL:https://www.carylevinson.com/event/agency-automator-live-demo-training/2025-11-05/
END:VEVENT
BEGIN:VEVENT
DTSTART;TZID=America/New_York:20251104T110000
DTEND;TZID=America/New_York:20251104T120000
DTSTAMP:20260421T234408
CREATED:20251028T202432Z
LAST-MODIFIED:20251028T202602Z
UID:10001386-1762254000-1762257600@www.carylevinson.com
SUMMARY:Securian - How to present an LTC solution to a client
DESCRIPTION:
URL:https://www.carylevinson.com/event/quarterly-annuity-updates-webinar-with-coach-chris-4-2/
END:VEVENT
BEGIN:VEVENT
DTSTART;TZID=America/New_York:20251030T140000
DTEND;TZID=America/New_York:20251030T150000
DTSTAMP:20260421T234408
CREATED:20250928T142130Z
LAST-MODIFIED:20250928T142130Z
UID:10001372-1761832800-1761836400@www.carylevinson.com
SUMMARY:"Insure Me Now Direct" D2C Platform Webinar Training! Uncover The Keys To Success!
DESCRIPTION:
URL:https://www.carylevinson.com/event/insure-me-now-direct-d2c-platform-webinar-training-uncover-the-keys-to-success/
END:VEVENT
BEGIN:VEVENT
DTSTART;TZID=America/New_York:20251029T140000
DTEND;TZID=America/New_York:20251029T150000
DTSTAMP:20260421T234408
CREATED:20251021T141436Z
LAST-MODIFIED:20251021T141436Z
UID:10001382-1761746400-1761750000@www.carylevinson.com
SUMMARY:Levinson's Official Health Department Rollout Webinar!
DESCRIPTION:
URL:https://www.carylevinson.com/event/levinsons-official-health-department-rollout-webinar/
END:VEVENT
BEGIN:VEVENT
DTSTART;TZID=America/New_York:20251029T140000
DTEND;TZID=America/New_York:20251029T143000
DTSTAMP:20260421T234408
CREATED:20230324T203027Z
LAST-MODIFIED:20240205T192652Z
UID:10000405-1761746400-1761748200@www.carylevinson.com
SUMMARY:Agency Automator Live Demo Training
DESCRIPTION:Click Link to Join: \nhttps://global.gotomeeting.com/join/550360733 \nDial in using your phone: \n(571) 317-3112 \nAccess Code: \n550-360-733
URL:https://www.carylevinson.com/event/agency-automator-live-demo-training/2025-10-29/
END:VEVENT
BEGIN:VEVENT
DTSTART;TZID=America/New_York:20251029T130000
DTEND;TZID=America/New_York:20251029T140000
DTSTAMP:20260421T234408
CREATED:20251015T131347Z
LAST-MODIFIED:20251015T131347Z
UID:10001381-1761742800-1761746400@www.carylevinson.com
SUMMARY:LSW Protect More Clients With the New & Improved FlexLife
DESCRIPTION:
URL:https://www.carylevinson.com/event/lsw-protect-more-clients-with-the-new-improved-flexlife-4/
END:VEVENT
BEGIN:VEVENT
DTSTART;TZID=America/New_York:20251028T150000
DTEND;TZID=America/New_York:20251028T160000
DTSTAMP:20260421T234408
CREATED:20251021T141935Z
LAST-MODIFIED:20251021T141935Z
UID:10001383-1761663600-1761667200@www.carylevinson.com
SUMMARY:North American Executive Retention+ An Introductory Webinar
DESCRIPTION:
URL:https://www.carylevinson.com/event/north-american-executive-retention-an-introductory-webinar/
END:VEVENT
BEGIN:VEVENT
DTSTART;TZID=America/New_York:20251028T130000
DTEND;TZID=America/New_York:20251028T140000
DTSTAMP:20260421T234408
CREATED:20251015T131240Z
LAST-MODIFIED:20251015T131240Z
UID:10001380-1761656400-1761660000@www.carylevinson.com
SUMMARY:LSW Protect More Clients With the New & Improved FlexLife
DESCRIPTION:
URL:https://www.carylevinson.com/event/lsw-protect-more-clients-with-the-new-improved-flexlife-3/
END:VEVENT
BEGIN:VEVENT
DTSTART;TZID=America/New_York:20251023T113000
DTEND;TZID=America/New_York:20251023T123000
DTSTAMP:20260421T234408
CREATED:20251015T131140Z
LAST-MODIFIED:20251015T131140Z
UID:10001379-1761219000-1761222600@www.carylevinson.com
SUMMARY:LSW Protect More Clients With the New & Improved FlexLife
DESCRIPTION:
URL:https://www.carylevinson.com/event/lsw-protect-more-clients-with-the-new-improved-flexlife-2/
END:VEVENT
BEGIN:VEVENT
DTSTART;TZID=America/New_York:20251023T100000
DTEND;TZID=America/New_York:20251023T110000
DTSTAMP:20260421T234408
CREATED:20251021T142042Z
LAST-MODIFIED:20251021T142042Z
UID:10001384-1761213600-1761217200@www.carylevinson.com
SUMMARY:Mass Mutual New DI BOE Launch Call
DESCRIPTION:
URL:https://www.carylevinson.com/event/mass-mutual-new-di-boe-launch-call/
END:VEVENT
BEGIN:VEVENT
DTSTART;TZID=America/New_York:20251022T140000
DTEND;TZID=America/New_York:20251022T150000
DTSTAMP:20260421T234408
CREATED:20251009T132854Z
LAST-MODIFIED:20251009T132854Z
UID:10001377-1761141600-1761145200@www.carylevinson.com
SUMMARY:John Hancock: Unlock opportunity with the new Accumulation Survivorship IUL
DESCRIPTION:
URL:https://www.carylevinson.com/event/john-hancock-unlock-opportunity-with-the-new-accumulation-survivorship-iul/
END:VEVENT
BEGIN:VEVENT
DTSTART;TZID=America/New_York:20251022T140000
DTEND;TZID=America/New_York:20251022T143000
DTSTAMP:20260421T234408
CREATED:20230324T203027Z
LAST-MODIFIED:20240205T192652Z
UID:10000404-1761141600-1761143400@www.carylevinson.com
SUMMARY:Agency Automator Live Demo Training
DESCRIPTION:Click Link to Join: \nhttps://global.gotomeeting.com/join/550360733 \nDial in using your phone: \n(571) 317-3112 \nAccess Code: \n550-360-733
URL:https://www.carylevinson.com/event/agency-automator-live-demo-training/2025-10-22/
END:VEVENT
BEGIN:VEVENT
DTSTART;TZID=America/New_York:20251022T110000
DTEND;TZID=America/New_York:20251022T120000
DTSTAMP:20260421T234408
CREATED:20251021T142204Z
LAST-MODIFIED:20251021T142204Z
UID:10001385-1761130800-1761134400@www.carylevinson.com
SUMMARY:Corebridge Presents: What You STILL DON'T KNOW about Chronic Illness Riders
DESCRIPTION:
URL:https://www.carylevinson.com/event/corebridge-presents-what-you-still-dont-know-about-chronic-illness-riders/
END:VEVENT
BEGIN:VEVENT
DTSTART;TZID=America/New_York:20251020T140000
DTEND;TZID=America/New_York:20251020T150000
DTSTAMP:20260421T234408
CREATED:20251015T131038Z
LAST-MODIFIED:20251015T131038Z
UID:10001378-1760968800-1760972400@www.carylevinson.com
SUMMARY:LSW Protect More Clients With the New & Improved FlexLife
DESCRIPTION:
URL:https://www.carylevinson.com/event/lsw-protect-more-clients-with-the-new-improved-flexlife/
END:VEVENT
BEGIN:VEVENT
DTSTART;TZID=America/New_York:20251016T140000
DTEND;TZID=America/New_York:20251016T150000
DTSTAMP:20260421T234408
CREATED:20250826T211740Z
LAST-MODIFIED:20250826T211740Z
UID:10001360-1760623200-1760626800@www.carylevinson.com
SUMMARY:Q4 Training Event Featuring Columbus Life + Special Carrier Guest!
DESCRIPTION:
URL:https://www.carylevinson.com/event/q4-training-event-featuring-columbus-life-special-carrier-guest/
END:VEVENT
BEGIN:VEVENT
DTSTART;TZID=America/New_York:20251015T140000
DTEND;TZID=America/New_York:20251015T143000
DTSTAMP:20260421T234408
CREATED:20230324T203027Z
LAST-MODIFIED:20240205T192652Z
UID:10000403-1760536800-1760538600@www.carylevinson.com
SUMMARY:Agency Automator Live Demo Training
DESCRIPTION:Click Link to Join: \nhttps://global.gotomeeting.com/join/550360733 \nDial in using your phone: \n(571) 317-3112 \nAccess Code: \n550-360-733
URL:https://www.carylevinson.com/event/agency-automator-live-demo-training/2025-10-15/
END:VEVENT
BEGIN:VEVENT
DTSTART;TZID=America/New_York:20251014T140000
DTEND;TZID=America/New_York:20251014T150000
DTSTAMP:20260421T234408
CREATED:20250930T212908Z
LAST-MODIFIED:20250930T212922Z
UID:10001375-1760450400-1760454000@www.carylevinson.com
SUMMARY:Sagicor - BlackRock Educational Series
DESCRIPTION:
URL:https://www.carylevinson.com/event/sagicor-blackrock-educational-series/
END:VEVENT
BEGIN:VEVENT
DTSTART;TZID=America/New_York:20251009T140000
DTEND;TZID=America/New_York:20251009T150000
DTSTAMP:20260421T234408
CREATED:20250826T211046Z
LAST-MODIFIED:20250826T211604Z
UID:10001359-1760018400-1760022000@www.carylevinson.com
SUMMARY:Super Charge Your Leads Strategy! New Leads Training With Special Vendor Guest!
DESCRIPTION:
URL:https://www.carylevinson.com/event/51004/
END:VEVENT
BEGIN:VEVENT
DTSTART;TZID=America/New_York:20251009T120000
DTEND;TZID=America/New_York:20251009T130000
DTSTAMP:20260421T234408
CREATED:20250919T134423Z
LAST-MODIFIED:20250919T134423Z
UID:10001370-1760011200-1760014800@www.carylevinson.com
SUMMARY:North American - Exclusive webinar with Ed Slott
DESCRIPTION:
URL:https://www.carylevinson.com/event/north-american-exclusive-webinar-with-ed-slott/
END:VEVENT
BEGIN:VEVENT
DTSTART;TZID=America/New_York:20251008T140000
DTEND;TZID=America/New_York:20251008T143000
DTSTAMP:20260421T234408
CREATED:20230324T203027Z
LAST-MODIFIED:20240205T192652Z
UID:10000402-1759932000-1759933800@www.carylevinson.com
SUMMARY:Agency Automator Live Demo Training
DESCRIPTION:Click Link to Join: \nhttps://global.gotomeeting.com/join/550360733 \nDial in using your phone: \n(571) 317-3112 \nAccess Code: \n550-360-733
URL:https://www.carylevinson.com/event/agency-automator-live-demo-training/2025-10-08/
END:VEVENT
BEGIN:VEVENT
DTSTART;TZID=America/New_York:20251001T140000
DTEND;TZID=America/New_York:20251001T143000
DTSTAMP:20260421T234408
CREATED:20230324T203027Z
LAST-MODIFIED:20240205T192652Z
UID:10000401-1759327200-1759329000@www.carylevinson.com
SUMMARY:Agency Automator Live Demo Training
DESCRIPTION:Click Link to Join: \nhttps://global.gotomeeting.com/join/550360733 \nDial in using your phone: \n(571) 317-3112 \nAccess Code: \n550-360-733
URL:https://www.carylevinson.com/event/agency-automator-live-demo-training/2025-10-01/
END:VEVENT
BEGIN:VEVENT
DTSTART;TZID=America/New_York:20250925T140000
DTEND;TZID=America/New_York:20250925T150000
DTSTAMP:20260421T234408
CREATED:20250924T211532Z
LAST-MODIFIED:20250924T211532Z
UID:10001371-1758808800-1758812400@www.carylevinson.com
SUMMARY:"Super Sales Solutions" Training With Assurity Life + Special Guest!
DESCRIPTION:
URL:https://www.carylevinson.com/event/super-sales-solutions-training-with-assurity-life-special-guest/
END:VEVENT
BEGIN:VEVENT
DTSTART;TZID=America/New_York:20250924T140000
DTEND;TZID=America/New_York:20250924T143000
DTSTAMP:20260421T234408
CREATED:20230324T203027Z
LAST-MODIFIED:20240205T192652Z
UID:10000400-1758722400-1758724200@www.carylevinson.com
SUMMARY:Agency Automator Live Demo Training
DESCRIPTION:Click Link to Join: \nhttps://global.gotomeeting.com/join/550360733 \nDial in using your phone: \n(571) 317-3112 \nAccess Code: \n550-360-733
URL:https://www.carylevinson.com/event/agency-automator-live-demo-training/2025-09-24/
END:VEVENT
BEGIN:VEVENT
DTSTART;TZID=America/New_York:20250924T120000
DTEND;TZID=America/New_York:20250924T130000
DTSTAMP:20260421T234408
CREATED:20250910T142636Z
LAST-MODIFIED:20250910T142636Z
UID:10001364-1758715200-1758718800@www.carylevinson.com
SUMMARY:Securian Financial "5-Minute Strategy" Webinar Series
DESCRIPTION:The 5-minute strategy\, a monthly webinar designed to help you unlock quick but powerful strategies for your clients’ retirement and protection goals.\nEpisode 1 explores how clients can leverage indexed universal life (IUL) insurance to help secure protection and build long-term wealth.
URL:https://www.carylevinson.com/event/securian-financial-5-minute-strategy-webinar-series/
END:VEVENT
BEGIN:VEVENT
DTSTART;TZID=America/New_York:20250924T113000
DTEND;TZID=America/New_York:20250924T123000
DTSTAMP:20260421T234408
CREATED:20250910T150327Z
LAST-MODIFIED:20250910T150327Z
UID:10001368-1758713400-1758717000@www.carylevinson.com
SUMMARY:National Life Group Webinar: Introducing RapidProtect: Lifelong Protection in an Instant
DESCRIPTION:RapidProtect ( Instant Decision ) Indexed Universal Life – Available September 22nd\, 2025: \n\nFast and easy application process — no medical tests or lab work needed\nLimited health questions\nInstant decision — clients will know immediately if they will qualify for death benefit coverage\nFace amount: $50\,000–$500\,000
URL:https://www.carylevinson.com/event/national-life-group-webinar-introducing-rapidprotect-lifelong-protection-in-an-instant-4/
END:VEVENT
BEGIN:VEVENT
DTSTART;TZID=America/New_York:20250922T110000
DTEND;TZID=America/New_York:20250922T120000
DTSTAMP:20260421T234408
CREATED:20250910T150124Z
LAST-MODIFIED:20250910T150124Z
UID:10001367-1758538800-1758542400@www.carylevinson.com
SUMMARY:National Life Group Webinar: Introducing RapidProtect: Lifelong Protection in an Instant
DESCRIPTION:RapidProtect ( Instant Decision ) Indexed Universal Life – Available September 22nd\, 2025: \n\nFast and easy application process — no medical tests or lab work needed\nLimited health questions\nInstant decision — clients will know immediately if they will qualify for death benefit coverage\nFace amount: $50\,000–$500\,000
URL:https://www.carylevinson.com/event/national-life-group-webinar-introducing-rapidprotect-lifelong-protection-in-an-instant-3/
END:VEVENT
BEGIN:VEVENT
DTSTART;TZID=America/New_York:20250918T140000
DTEND;TZID=America/New_York:20250918T150000
DTSTAMP:20260421T234408
CREATED:20250721T132355Z
LAST-MODIFIED:20250721T132355Z
UID:10001351-1758204000-1758207600@www.carylevinson.com
SUMMARY:Banner Life/Legal & General Training Webinar with Special Guest + New Collateral Assignment Process!
DESCRIPTION:
URL:https://www.carylevinson.com/event/banner-life-legal-general-training-webinar-with-special-guest-new-collateral-assignment-process/
END:VEVENT
BEGIN:VEVENT
DTSTART;TZID=America/New_York:20250918T130000
DTEND;TZID=America/New_York:20250918T140000
DTSTAMP:20260421T234408
CREATED:20250910T145521Z
LAST-MODIFIED:20250910T145521Z
UID:10001366-1758200400-1758204000@www.carylevinson.com
SUMMARY:National Life Group Webinar: Introducing RapidProtect: Lifelong Protection in an Instant
DESCRIPTION:RapidProtect ( Instant Decision ) Indexed Universal Life – Available September 22nd\, 2025: \n\nFast and easy application process — no medical tests or lab work needed\nLimited health questions\nInstant decision — clients will know immediately if they will qualify for death benefit coverage\nFace amount: $50\,000–$500\,000
URL:https://www.carylevinson.com/event/national-life-group-webinar-introducing-rapidprotect-lifelong-protection-in-an-instant-2/
END:VEVENT
BEGIN:VEVENT
DTSTART;TZID=America/New_York:20250917T140000
DTEND;TZID=America/New_York:20250917T150000
DTSTAMP:20260421T234408
CREATED:20250829T210825Z
LAST-MODIFIED:20250829T210825Z
UID:10001361-1758117600-1758121200@www.carylevinson.com
SUMMARY:Lincoln Financial Webinar - Earnings\, Equities\, and Economic Indicators: Market Insight & Forecast with Bank of America
DESCRIPTION:
URL:https://www.carylevinson.com/event/lincoln-financial-webinar-earnings-equities-and-economic-indicators-market-insight-forecast-with-bank-of-america/
END:VEVENT
BEGIN:VEVENT
DTSTART;TZID=America/New_York:20250917T140000
DTEND;TZID=America/New_York:20250917T143000
DTSTAMP:20260421T234408
CREATED:20230324T203027Z
LAST-MODIFIED:20240205T192652Z
UID:10000399-1758117600-1758119400@www.carylevinson.com
SUMMARY:Agency Automator Live Demo Training
DESCRIPTION:Click Link to Join: \nhttps://global.gotomeeting.com/join/550360733 \nDial in using your phone: \n(571) 317-3112 \nAccess Code: \n550-360-733
URL:https://www.carylevinson.com/event/agency-automator-live-demo-training/2025-09-17/
END:VEVENT
END:VCALENDAR