BEGIN:VCALENDAR
VERSION:2.0
PRODID:-//Levinson &amp; Associates - ECPv6.15.20//NONSGML v1.0//EN
CALSCALE:GREGORIAN
METHOD:PUBLISH
X-ORIGINAL-URL:https://www.carylevinson.com
X-WR-CALDESC:Events for Levinson &amp; Associates
REFRESH-INTERVAL;VALUE=DURATION:PT1H
X-Robots-Tag:noindex
X-PUBLISHED-TTL:PT1H
BEGIN:VTIMEZONE
TZID:America/New_York
BEGIN:DAYLIGHT
TZOFFSETFROM:-0500
TZOFFSETTO:-0400
TZNAME:EDT
DTSTART:20250309T070000
END:DAYLIGHT
BEGIN:STANDARD
TZOFFSETFROM:-0400
TZOFFSETTO:-0500
TZNAME:EST
DTSTART:20251102T060000
END:STANDARD
BEGIN:DAYLIGHT
TZOFFSETFROM:-0500
TZOFFSETTO:-0400
TZNAME:EDT
DTSTART:20260308T070000
END:DAYLIGHT
BEGIN:STANDARD
TZOFFSETFROM:-0400
TZOFFSETTO:-0500
TZNAME:EST
DTSTART:20261101T060000
END:STANDARD
BEGIN:DAYLIGHT
TZOFFSETFROM:-0500
TZOFFSETTO:-0400
TZNAME:EDT
DTSTART:20270314T070000
END:DAYLIGHT
BEGIN:STANDARD
TZOFFSETFROM:-0400
TZOFFSETTO:-0500
TZNAME:EST
DTSTART:20271107T060000
END:STANDARD
END:VTIMEZONE
BEGIN:VEVENT
DTSTART;TZID=America/New_York:20260302T160000
DTEND;TZID=America/New_York:20260330T170000
DTSTAMP:20260421T084810
CREATED:20260302T165027Z
LAST-MODIFIED:20260302T171903Z
UID:10001422-1772467200-1774890000@www.carylevinson.com
SUMMARY:The Future of Illustrations: A First Look at WELiS
DESCRIPTION:Be among the first to explore WELiS\, iPipeline’s new browser-based illustration platform. \nWe’ll walk through key features\, what’s changing\, and how WELiS can help streamline your illustration process. \nJoin us for a live introduction to WELiS\, the browser-based illustration platform from iPipeline\, built specifically for the life insurance and annuity industry. \nWELiS offers a faster\, more flexible experience with compliant\, customizable illustrations accessible on desktop\, web\, and mobile. \nThis webinar will highlight key features\, explain what’s changing\, and show how WELiS supports a more efficient\, modern illustration process.
URL:https://www.carylevinson.com/event/the-future-of-illustrations-a-first-look-at-welis/
END:VEVENT
BEGIN:VEVENT
DTSTART;TZID=America/New_York:20260304T140000
DTEND;TZID=America/New_York:20260304T143000
DTSTAMP:20260421T084810
CREATED:20230324T203027Z
LAST-MODIFIED:20240205T192652Z
UID:10000423-1772632800-1772634600@www.carylevinson.com
SUMMARY:Agency Automator Live Demo Training
DESCRIPTION:Click Link to Join: \nhttps://global.gotomeeting.com/join/550360733 \nDial in using your phone: \n(571) 317-3112 \nAccess Code: \n550-360-733
URL:https://www.carylevinson.com/event/agency-automator-live-demo-training/2026-03-04/
END:VEVENT
BEGIN:VEVENT
DTSTART;TZID=America/New_York:20260305T140000
DTEND;TZID=America/New_York:20260305T150000
DTSTAMP:20260421T084810
CREATED:20260113T221540Z
LAST-MODIFIED:20260113T221553Z
UID:10001406-1772719200-1772722800@www.carylevinson.com
SUMMARY:2026 IUL Training Event With Allianz Life! Accelerate Performance & Momentum!
DESCRIPTION:2026 IUL Training Event With Allianz Life! Accelerate Performance & Momentum! \n03/05/2026@2PM EST  \nhttps://register.gotowebinar.com/register/1895524414120820831 \n 
URL:https://www.carylevinson.com/event/2026-iul-training-event-with-allianz-life-accelerate-performance-momentum/
END:VEVENT
BEGIN:VEVENT
DTSTART;TZID=America/New_York:20260310T110000
DTEND;TZID=America/New_York:20260310T111500
DTSTAMP:20260421T084810
CREATED:20260310T140042Z
LAST-MODIFIED:20260310T142457Z
UID:10001424-1773140400-1773141300@www.carylevinson.com
SUMMARY:Two new DI products that strengthen business protection
DESCRIPTION:Financial professional webinar\nTwo new DI products that strengthen business protection\nBusiness owners have an increased interest in business protection solutions\, and your business expense protection solutions just got stronger—Principal® Overhead Expense and Principal® Business Loan Protection. \nJoin our panel of experienced professionals to learn more about how these two new products give you even more to work with—so your clients can keep their business working. \nIn this 15 minute webinar\, we’ll share: \n\nThe need for business protection from an owner’s disability.\nHow Overhead Expense and Business Loan Expense products strengthen your business protection solutions.\nThe value\, simplicity\, and flexibility of the new and improved products.\nTaxation considerations\, practical sales ideas\, and resources available that financial professionals can use with clients.
URL:https://www.carylevinson.com/event/two-new-di-products-that-strengthen-business-protection/
END:VEVENT
BEGIN:VEVENT
DTSTART;TZID=America/New_York:20260311T140000
DTEND;TZID=America/New_York:20260311T143000
DTSTAMP:20260421T084810
CREATED:20230324T203027Z
LAST-MODIFIED:20240205T192652Z
UID:10000424-1773237600-1773239400@www.carylevinson.com
SUMMARY:Agency Automator Live Demo Training
DESCRIPTION:Click Link to Join: \nhttps://global.gotomeeting.com/join/550360733 \nDial in using your phone: \n(571) 317-3112 \nAccess Code: \n550-360-733
URL:https://www.carylevinson.com/event/agency-automator-live-demo-training/2026-03-11/
END:VEVENT
BEGIN:VEVENT
DTSTART;TZID=America/New_York:20260311T140000
DTEND;TZID=America/New_York:20260311T150000
DTSTAMP:20260421T084810
CREATED:20260302T164527Z
LAST-MODIFIED:20260302T164527Z
UID:10001420-1773237600-1773241200@www.carylevinson.com
SUMMARY:Women and Wealth: Turning Risks into Readiness
DESCRIPTION:Women are expected to control $34 trillion in U.S. assets by 2030. Are you positioned to serve them? \n  \nJoin Lori Seaton and Lori Salmon to explore: \n\nOpportunities created by the Great Wealth Transfer\nHow to better serve female clients\nInsights from North American’s research\n\nMarket data and recent studies show an incredible wealth transfer taking place in which women are estimated to control $34 trillion in US assets by 2030. Join us for a live webinar hosted by Lori Seaton\, North American Head of Market Enablement\, to learn about: \n• Opportunities the Great Wealth Transfer might present for your business \n• The critical role financial professionals can play in meeting clients’ needs \n• North American’s unique insights into female consumers based on our latest research study
URL:https://www.carylevinson.com/event/women-and-wealth-turning-risks-into-readiness/
END:VEVENT
BEGIN:VEVENT
DTSTART;TZID=America/New_York:20260312T140000
DTEND;TZID=America/New_York:20260312T150000
DTSTAMP:20260421T084810
CREATED:20260127T184326Z
LAST-MODIFIED:20260127T190904Z
UID:10001409-1773324000-1773327600@www.carylevinson.com
SUMMARY:2026 Training Event with Mutual of Omaha! Exciting Updates & Announcements!
DESCRIPTION:2026 Training Event with Mutual of Omaha! Exciting Updates & Announcements! \nThursday\, 03/12/2026@2PM EST!  \nhttps://register.gotowebinar.com/#register/2030499362340942933
URL:https://www.carylevinson.com/event/2026-training-event-with-mutual-of-omaha-exciting-updates-announcements/
END:VEVENT
BEGIN:VEVENT
DTSTART;TZID=America/New_York:20260318T140000
DTEND;TZID=America/New_York:20260318T143000
DTSTAMP:20260421T084810
CREATED:20230324T203027Z
LAST-MODIFIED:20240205T192652Z
UID:10000425-1773842400-1773844200@www.carylevinson.com
SUMMARY:Agency Automator Live Demo Training
DESCRIPTION:Click Link to Join: \nhttps://global.gotomeeting.com/join/550360733 \nDial in using your phone: \n(571) 317-3112 \nAccess Code: \n550-360-733
URL:https://www.carylevinson.com/event/agency-automator-live-demo-training/2026-03-18/
END:VEVENT
BEGIN:VEVENT
DTSTART;TZID=America/New_York:20260319T140000
DTEND;TZID=America/New_York:20260319T170000
DTSTAMP:20260421T084810
CREATED:20260115T182225Z
LAST-MODIFIED:20260115T182225Z
UID:10001407-1773928800-1773939600@www.carylevinson.com
SUMMARY:The Insurance Industry's #1 CRM Tool Just Got Better! 2026 Ringy CRM Platform Updates Webinar!
DESCRIPTION:The Insurance Industry’s #1 CRM Tool Just Got Better! 2026 Ringy CRM Platform Updates Webinar! \nThursday\, 03/19/26@2PM EST  \nhttps://register.gotowebinar.com/register/1749479583178937692
URL:https://www.carylevinson.com/event/the-insurance-industrys-1-crm-tool-just-got-better-2026-ringy-crm-platform-updates-webinar/
END:VEVENT
BEGIN:VEVENT
DTSTART;TZID=America/New_York:20260319T143000
DTEND;TZID=America/New_York:20260319T153000
DTSTAMP:20260421T084810
CREATED:20260302T164721Z
LAST-MODIFIED:20260302T164809Z
UID:10001421-1773930600-1773934200@www.carylevinson.com
SUMMARY:Demistifying IUL Part 2: Index Credits
DESCRIPTION:Index credits don’t have to be confusing. Join Tom as he explains how index credits work in indexed universal life (IUL) insurance — and why they matter. \nYou’ll gain practical insights to help you better understand and confidently explain this key feature to clients. \nIndex Credits (Part 2) Index credits don’t have to be confusing. \nIn Part 2 of Midland National’s Demystifying Indexed Universal Life (IUL) series\, Tom Martin\, Senior Life Product & Competition Analyst\, walks through how index credits function in IUL products and why they matter. \nGain practical insight to help you better understand and explain this key feature with confidence.
URL:https://www.carylevinson.com/event/demistifying-iul-part-2-index-credits/
END:VEVENT
BEGIN:VEVENT
DTSTART;TZID=America/New_York:20260325T140000
DTEND;TZID=America/New_York:20260325T143000
DTSTAMP:20260421T084810
CREATED:20230324T203027Z
LAST-MODIFIED:20240205T192652Z
UID:10000426-1774447200-1774449000@www.carylevinson.com
SUMMARY:Agency Automator Live Demo Training
DESCRIPTION:Click Link to Join: \nhttps://global.gotomeeting.com/join/550360733 \nDial in using your phone: \n(571) 317-3112 \nAccess Code: \n550-360-733
URL:https://www.carylevinson.com/event/agency-automator-live-demo-training/2026-03-25/
END:VEVENT
BEGIN:VEVENT
DTSTART;TZID=America/New_York:20260326T140000
DTEND;TZID=America/New_York:20260326T150000
DTSTAMP:20260421T084810
CREATED:20260220T224355Z
LAST-MODIFIED:20260220T224413Z
UID:10001417-1774533600-1774537200@www.carylevinson.com
SUMMARY:Powerhouse Carrier Pacific Life Is Back For a 2026 Training! Unlock New Policy Review Strategies & Hot Bullets!
DESCRIPTION:Powerhouse Carrier Pacific Life Is Back For a 2026 Training! Unlock New Policy Review Strategies & Hot Bullets! \nThursday\, 03/26/26@2PM EST  \nhttps://register.gotowebinar.com/register/8520334859986284377
URL:https://www.carylevinson.com/event/powerhouse-carrier-pacific-life-is-back-for-a-2026-training-unlock-new-policy-review-strategies-hot-bullets/
END:VEVENT
END:VCALENDAR