BEGIN:VCALENDAR
VERSION:2.0
PRODID:-//Levinson &amp; Associates - ECPv6.15.20//NONSGML v1.0//EN
CALSCALE:GREGORIAN
METHOD:PUBLISH
X-ORIGINAL-URL:https://www.carylevinson.com
X-WR-CALDESC:Events for Levinson &amp; Associates
REFRESH-INTERVAL;VALUE=DURATION:PT1H
X-Robots-Tag:noindex
X-PUBLISHED-TTL:PT1H
BEGIN:VTIMEZONE
TZID:America/New_York
BEGIN:DAYLIGHT
TZOFFSETFROM:-0500
TZOFFSETTO:-0400
TZNAME:EDT
DTSTART:20250309T070000
END:DAYLIGHT
BEGIN:STANDARD
TZOFFSETFROM:-0400
TZOFFSETTO:-0500
TZNAME:EST
DTSTART:20251102T060000
END:STANDARD
BEGIN:DAYLIGHT
TZOFFSETFROM:-0500
TZOFFSETTO:-0400
TZNAME:EDT
DTSTART:20260308T070000
END:DAYLIGHT
BEGIN:STANDARD
TZOFFSETFROM:-0400
TZOFFSETTO:-0500
TZNAME:EST
DTSTART:20261101T060000
END:STANDARD
BEGIN:DAYLIGHT
TZOFFSETFROM:-0500
TZOFFSETTO:-0400
TZNAME:EDT
DTSTART:20270314T070000
END:DAYLIGHT
BEGIN:STANDARD
TZOFFSETFROM:-0400
TZOFFSETTO:-0500
TZNAME:EST
DTSTART:20271107T060000
END:STANDARD
END:VTIMEZONE
BEGIN:VEVENT
DTSTART;TZID=America/New_York:20260422T140000
DTEND;TZID=America/New_York:20260422T143000
DTSTAMP:20260421T071415
CREATED:20230324T203027Z
LAST-MODIFIED:20240205T192652Z
UID:10000430-1776866400-1776868200@www.carylevinson.com
SUMMARY:Agency Automator Live Demo Training
DESCRIPTION:Click Link to Join: \nhttps://global.gotomeeting.com/join/550360733 \nDial in using your phone: \n(571) 317-3112 \nAccess Code: \n550-360-733
URL:https://www.carylevinson.com/event/agency-automator-live-demo-training/2026-04-22/
END:VEVENT
BEGIN:VEVENT
DTSTART;TZID=America/New_York:20260423T140000
DTEND;TZID=America/New_York:20260423T150000
DTSTAMP:20260421T071415
CREATED:20260330T165634Z
LAST-MODIFIED:20260330T183857Z
UID:10001428-1776952800-1776956400@www.carylevinson.com
SUMMARY:2026 Website Packages & Social Media Marketing Training! New AI Video Creation Tool Launch!
DESCRIPTION:Join Levinson & Associates this week as we continue to bring you the latest and greatest Website\, Social Media\, and AI-driven Sales Platforms. \nThis live training webinar features Snoozzy\, one of our top 3rd party vendor partnerships where Levinson agents can get massive Co-op Discounts!
URL:https://www.carylevinson.com/event/2026-website-packages-social-media-marketing-training-new-ai-video-creation-tool-launch/
END:VEVENT
BEGIN:VEVENT
DTSTART;TZID=America/New_York:20260429T140000
DTEND;TZID=America/New_York:20260429T143000
DTSTAMP:20260421T071415
CREATED:20230324T203027Z
LAST-MODIFIED:20240205T192652Z
UID:10000431-1777471200-1777473000@www.carylevinson.com
SUMMARY:Agency Automator Live Demo Training
DESCRIPTION:Click Link to Join: \nhttps://global.gotomeeting.com/join/550360733 \nDial in using your phone: \n(571) 317-3112 \nAccess Code: \n550-360-733
URL:https://www.carylevinson.com/event/agency-automator-live-demo-training/2026-04-29/
END:VEVENT
BEGIN:VEVENT
DTSTART;TZID=America/New_York:20260430T123000
DTEND;TZID=America/New_York:20260430T133000
DTSTAMP:20260421T071415
CREATED:20260326T143328Z
LAST-MODIFIED:20260326T143356Z
UID:10001426-1777552200-1777555800@www.carylevinson.com
SUMMARY:Leveraging Large IRAs: Three Wins for Clients\, Heirs\, and Financial Professionals Life Insurance Strategies for Today’s Tax Challenges
DESCRIPTION:For many retirees and pre-retirees\, the largest pool of assets may be in tax-deferred IRAs\, which can create problems down the road. Large IRA balances can create concentrated tax risk and a planning opportunity. IRAs are tax-deferred until funds are withdrawn\, at which time\, the withdrawn funds are taxable. \nCombined with the recent changes of the SECURE Act\, which eliminated the stretch IRA for most beneficiaries\, a new approach may be worth considering. Join Ed Slott as he explains how permanent life insurance can be leveraged to help provide: \n\ndeath benefit protection\,\na plan for future taxes\,\ninheritance outcomes\, and…\nlong-term value for clients and their families.\n\nThis session will share how to spot opportunities and position life insurance as a powerful planning tool in today’s tax environment. \n  \nEd Slott is not an employee of North American. The opinions and ideas expressed by him are his own and not necessarily those of North American or its affiliates. North American does not endorse or promote these opinions and ideas. Information contained herein has been obtained from sources believed to be reliable\, but not guaranteed as to accuracy. All presentations are for agent representative use only and cannot be used\, in whole or part\, with consumers.
URL:https://www.carylevinson.com/event/leveraging-large-iras-three-wins-for-clients-heirs-and-financial-professionals-life-insurance-strategies-for-todays-tax-challenges/
END:VEVENT
BEGIN:VEVENT
DTSTART;TZID=America/New_York:20260430T140000
DTEND;TZID=America/New_York:20260430T150000
DTSTAMP:20260421T071415
CREATED:20260311T133052Z
LAST-MODIFIED:20260311T134659Z
UID:10001425-1777557600-1777561200@www.carylevinson.com
SUMMARY:New Carrier Launching On "Insure Me Now Direct!" NCD By MetLife Rollout Webinar!
DESCRIPTION:New Carrier Launching On “Insure Me Now Direct!” NCD By MetLife Rollout Webinar! \nThursday\, 04/30/26@2PM EST  \nhttps://register.gotowebinar.com/register/5912375742672373086
URL:https://www.carylevinson.com/event/new-carrier-launching-on-insure-me-now-direct-ncd-by-metlife-rollout-webinar/
END:VEVENT
END:VCALENDAR